BEGIN:VCALENDAR
VERSION:2.0
PRODID:-//Young Professionals of Pitt County - ECPv6.15.20//NONSGML v1.0//EN
CALSCALE:GREGORIAN
METHOD:PUBLISH
X-WR-CALNAME:Young Professionals of Pitt County
X-ORIGINAL-URL:https://www.ypofpitt.org
X-WR-CALDESC:Events for Young Professionals of Pitt County
REFRESH-INTERVAL;VALUE=DURATION:PT1H
X-Robots-Tag:noindex
X-PUBLISHED-TTL:PT1H
BEGIN:VTIMEZONE
TZID:America/New_York
BEGIN:DAYLIGHT
TZOFFSETFROM:-0500
TZOFFSETTO:-0400
TZNAME:EDT
DTSTART:20250309T070000
END:DAYLIGHT
BEGIN:STANDARD
TZOFFSETFROM:-0400
TZOFFSETTO:-0500
TZNAME:EST
DTSTART:20251102T060000
END:STANDARD
BEGIN:DAYLIGHT
TZOFFSETFROM:-0500
TZOFFSETTO:-0400
TZNAME:EDT
DTSTART:20260308T070000
END:DAYLIGHT
BEGIN:STANDARD
TZOFFSETFROM:-0400
TZOFFSETTO:-0500
TZNAME:EST
DTSTART:20261101T060000
END:STANDARD
BEGIN:DAYLIGHT
TZOFFSETFROM:-0500
TZOFFSETTO:-0400
TZNAME:EDT
DTSTART:20270314T070000
END:DAYLIGHT
BEGIN:STANDARD
TZOFFSETFROM:-0400
TZOFFSETTO:-0500
TZNAME:EST
DTSTART:20271107T060000
END:STANDARD
END:VTIMEZONE
BEGIN:VEVENT
DTSTART;TZID=America/New_York:20260310T080000
DTEND;TZID=America/New_York:20260310T090000
DTSTAMP:20260421T083117
CREATED:20260302T205438Z
LAST-MODIFIED:20260302T210322Z
UID:5162-1773129600-1773133200@www.ypofpitt.org
SUMMARY:Rise & sYP
DESCRIPTION:Start your morning with coffee\, connection\, and community at Rise & sYP – presented by Grow in Greenville – on Tuesday\, March 10th from 8:00–9:00am at The Biscuit and The Bean Café. \n\nThis month\, we’re excited to welcome Rebecca Caveness\, Executive Director of the Winterville Chamber of Commerce. Rebecca will share insights into Winterville’s current economic activity\, the town’s growing connectivity to the city\, and how local businesses and young professionals can plug into the momentum.\n\nRise & sYP events bring together young professionals for meaningful conversations\, fresh perspectives\, and intentional relationship-building — all before the workday begins.
URL:https://www.ypofpitt.org/calendar/rise-syp-25/
LOCATION:The Biscuit & The Bean Cafe\, 168 Beacon Dr\, Winterville\, NC\, 28590
ATTACH;FMTTYPE=image/jpeg:https://www.ypofpitt.org/wordpress/wp-content/uploads/2026/03/Rise-sYP-FB-Cover-e1772485358469.jpg
END:VEVENT
END:VCALENDAR