BEGIN:VCALENDAR
VERSION:2.0
PRODID:-//Young Professionals of Pitt County - ECPv6.15.20//NONSGML v1.0//EN
CALSCALE:GREGORIAN
METHOD:PUBLISH
X-WR-CALNAME:Young Professionals of Pitt County
X-ORIGINAL-URL:https://www.ypofpitt.org
X-WR-CALDESC:Events for Young Professionals of Pitt County
REFRESH-INTERVAL;VALUE=DURATION:PT1H
X-Robots-Tag:noindex
X-PUBLISHED-TTL:PT1H
BEGIN:VTIMEZONE
TZID:America/New_York
BEGIN:DAYLIGHT
TZOFFSETFROM:-0500
TZOFFSETTO:-0400
TZNAME:EDT
DTSTART:20250309T070000
END:DAYLIGHT
BEGIN:STANDARD
TZOFFSETFROM:-0400
TZOFFSETTO:-0500
TZNAME:EST
DTSTART:20251102T060000
END:STANDARD
BEGIN:DAYLIGHT
TZOFFSETFROM:-0500
TZOFFSETTO:-0400
TZNAME:EDT
DTSTART:20260308T070000
END:DAYLIGHT
BEGIN:STANDARD
TZOFFSETFROM:-0400
TZOFFSETTO:-0500
TZNAME:EST
DTSTART:20261101T060000
END:STANDARD
BEGIN:DAYLIGHT
TZOFFSETFROM:-0500
TZOFFSETTO:-0400
TZNAME:EDT
DTSTART:20270314T070000
END:DAYLIGHT
BEGIN:STANDARD
TZOFFSETFROM:-0400
TZOFFSETTO:-0500
TZNAME:EST
DTSTART:20271107T060000
END:STANDARD
END:VTIMEZONE
BEGIN:VEVENT
DTSTART;TZID=America/New_York:20260319T173000
DTEND;TZID=America/New_York:20260319T190000
DTSTAMP:20260421T145247
CREATED:20260302T205643Z
LAST-MODIFIED:20260302T210726Z
UID:5168-1773941400-1773946800@www.ypofpitt.org
SUMMARY:3rd Thursday Social
DESCRIPTION:Step out\, meet new people\, and grow your network at our monthly 3rd Thursday Social! Connect with fellow young professionals from across our community while checking out a venue we haven’t visited before – Aji. Expect great conversation\, new connections\, and a laid-back atmosphere that makes it easy to get involved and stay connected.
URL:https://www.ypofpitt.org/calendar/3rd-thursday-social-21/
LOCATION:Aji\, 801 Dickinson Ave\, Greenville\, NC
ATTACH;FMTTYPE=image/jpeg:https://www.ypofpitt.org/wordpress/wp-content/uploads/2026/03/Thursday-January-15-530pm-700pm-Uptown-Brewing-Company-2-e1772485603169.jpg
END:VEVENT
BEGIN:VEVENT
DTSTART;TZID=America/New_York:20260327T113000
DTEND;TZID=America/New_York:20260327T130000
DTSTAMP:20260421T145247
CREATED:20260325T145711Z
LAST-MODIFIED:20260325T145711Z
UID:5176-1774611000-1774616400@www.ypofpitt.org
SUMMARY:Lunch Break - Preparing for Homeownership
DESCRIPTION:Lunch Break\, presented by Grow in Greenville\, is now open to non-members! Reserve your spot today! \nKristen Moss\, Mortgage Loan Officer with Southern Bank\, and Elise Karriker\, Realtor with Legacy Premier Real Estate\, will walk us through the home-buying process\, how to prepare for it\, and how to confidently navigate each step. \nLunch will be provided\, so come connect with fellow young professionals\, and learn something that could pay off long after your lunch break ends. Networking\, learning\, and real-life value — all in one hour. \nREGISTER HERE
URL:https://www.ypofpitt.org/calendar/lunch-break-preparing-for-homeownership/
LOCATION:Southern Bank (Stantonsburg Rd)\, 2275 Stantonsburg Rd\, Greenville\, NC\, 27834
ATTACH;FMTTYPE=image/png:https://www.ypofpitt.org/wordpress/wp-content/uploads/2026/03/FRIDAY-MARCH-27-1130am-100pm-S-e1774450602671.png
END:VEVENT
BEGIN:VEVENT
DTSTART;TZID=America/New_York:20260401T173000
DTEND;TZID=America/New_York:20260401T183000
DTSTAMP:20260421T145247
CREATED:20260325T145822Z
LAST-MODIFIED:20260325T145822Z
UID:5179-1775064600-1775068200@www.ypofpitt.org
SUMMARY:Adopt-A-Street
DESCRIPTION:The YP’s are responsible for tidying up 10th St. between Elm St. and Greenville Blvd. on a quarterly basis. We’ll meet up at Elm Street Park\, and hope you’ll join us! \nTrash bags and gloves are provided. Comfy clothes and tennis shoes are highly suggested. \nFACEBOOK EVENT
URL:https://www.ypofpitt.org/calendar/adopt-a-street/
LOCATION:Elm Street Park Parking Lot
ATTACH;FMTTYPE=image/png:https://www.ypofpitt.org/wordpress/wp-content/uploads/2026/03/Adopt-A-Street-1.png
END:VEVENT
BEGIN:VEVENT
DTSTART;TZID=America/New_York:20260416T173000
DTEND;TZID=America/New_York:20260416T190000
DTSTAMP:20260421T145247
CREATED:20260325T151332Z
LAST-MODIFIED:20260325T151332Z
UID:5182-1776360600-1776366000@www.ypofpitt.org
SUMMARY:3rd Thursday Social
DESCRIPTION:
URL:https://www.ypofpitt.org/calendar/3rd-thursday-social-22/
LOCATION:Agave Greenville\, 515 Cotanche St\, Greenville
ATTACH;FMTTYPE=image/jpeg:https://www.ypofpitt.org/wordpress/wp-content/uploads/2026/03/Thursday-January-15-530pm-700pm-Uptown-Brewing-Company-3-e1774451602754.jpg
END:VEVENT
END:VCALENDAR